BEGIN:VCALENDAR
VERSION:2.0
PRODID:-//ASV Waldsee - ECPv6.14.0//NONSGML v1.0//EN
CALSCALE:GREGORIAN
METHOD:PUBLISH
X-WR-CALNAME:ASV Waldsee
X-ORIGINAL-URL:https://asv-waldsee.de
X-WR-CALDESC:Veranstaltungen für ASV Waldsee
REFRESH-INTERVAL;VALUE=DURATION:PT1H
X-Robots-Tag:noindex
X-PUBLISHED-TTL:PT1H
BEGIN:VTIMEZONE
TZID:Europe/Berlin
BEGIN:DAYLIGHT
TZOFFSETFROM:+0100
TZOFFSETTO:+0200
TZNAME:CEST
DTSTART:20260329T010000
END:DAYLIGHT
BEGIN:STANDARD
TZOFFSETFROM:+0200
TZOFFSETTO:+0100
TZNAME:CET
DTSTART:20261025T010000
END:STANDARD
END:VTIMEZONE
BEGIN:VEVENT
DTSTART;VALUE=DATE:20261017
DTEND;VALUE=DATE:20261020
DTSTAMP:20260424T161208
CREATED:20251015T110852Z
LAST-MODIFIED:20251015T110852Z
UID:8539-1792195200-1792454399@asv-waldsee.de
SUMMARY:Kerwe 2026
DESCRIPTION:Samstag bis Montag\, 17.-19.10.2026 – an der Sommerfesthalle Waldsee
URL:https://asv-waldsee.de/event/kerwe-2026/
LOCATION:Sommerfesthalle Waldsee\, Wörthstraße\, Waldsee\, Deutschland
CATEGORIES:allgemein
END:VEVENT
END:VCALENDAR