BEGIN:VCALENDAR
VERSION:2.0
PRODID:-//ASV Waldsee - ECPv6.14.0//NONSGML v1.0//EN
CALSCALE:GREGORIAN
METHOD:PUBLISH
X-ORIGINAL-URL:https://asv-waldsee.de
X-WR-CALDESC:Veranstaltungen für ASV Waldsee
REFRESH-INTERVAL;VALUE=DURATION:PT1H
X-Robots-Tag:noindex
X-PUBLISHED-TTL:PT1H
BEGIN:VTIMEZONE
TZID:Europe/Berlin
BEGIN:DAYLIGHT
TZOFFSETFROM:+0100
TZOFFSETTO:+0200
TZNAME:CEST
DTSTART:20260329T010000
END:DAYLIGHT
BEGIN:STANDARD
TZOFFSETFROM:+0200
TZOFFSETTO:+0100
TZNAME:CET
DTSTART:20261025T010000
END:STANDARD
END:VTIMEZONE
BEGIN:VEVENT
DTSTART;TZID=Europe/Berlin:20260509T180000
DTEND;TZID=Europe/Berlin:20260509T233000
DTSTAMP:20260424T123825
CREATED:20251015T105548Z
LAST-MODIFIED:20251015T105606Z
UID:8528-1778349600-1778369400@asv-waldsee.de
SUMMARY:Bierfest 2026
DESCRIPTION:Samstag\, 09.05.2026 – Einlass ab 18:00 Uhr in die Sommerfesthalle Waldsee \nDas 26. Bierfest des ASV Waldsee wird im Jubiläumsjahr 2026 natürlich als Jubiläumsbierfest gefeiert!
URL:https://asv-waldsee.de/event/bierfest-2026/
LOCATION:Sommerfesthalle Waldsee\, Wörthstraße\, Waldsee\, Deutschland
CATEGORIES:allgemein
END:VEVENT
END:VCALENDAR