BEGIN:VCALENDAR
VERSION:2.0
PRODID:-//ASV Waldsee - ECPv6.14.0//NONSGML v1.0//EN
CALSCALE:GREGORIAN
METHOD:PUBLISH
X-WR-CALNAME:ASV Waldsee
X-ORIGINAL-URL:https://asv-waldsee.de
X-WR-CALDESC:Veranstaltungen für ASV Waldsee
REFRESH-INTERVAL;VALUE=DURATION:PT1H
X-Robots-Tag:noindex
X-PUBLISHED-TTL:PT1H
BEGIN:VTIMEZONE
TZID:Europe/Berlin
BEGIN:DAYLIGHT
TZOFFSETFROM:+0100
TZOFFSETTO:+0200
TZNAME:CEST
DTSTART:20260329T010000
END:DAYLIGHT
BEGIN:STANDARD
TZOFFSETFROM:+0200
TZOFFSETTO:+0100
TZNAME:CET
DTSTART:20261025T010000
END:STANDARD
END:VTIMEZONE
BEGIN:VEVENT
DTSTART;TZID=Europe/Berlin:20260314T190000
DTEND;TZID=Europe/Berlin:20260314T220000
DTSTAMP:20260424T123011
CREATED:20251015T104437Z
LAST-MODIFIED:20251015T104507Z
UID:8521-1773514800-1773525600@asv-waldsee.de
SUMMARY:Jubiläumsabend
DESCRIPTION:Samstag\, 14.03.2026 – 19:00 Uhr\, Kulturhalle Waldsee \nDen großen offiziellen Jubiläumsabend\, an dem wir mit allen Mitgliedern\, Freunden und Unterstützern feiern wollen! An diesem Abend ehren wir langjährige Mitglieder\, blicken zurück in die Historie und feiern gemeinsam unser Bestehen.
URL:https://asv-waldsee.de/event/jubilaeumsabend/
LOCATION:Kulturhalle Waldsee\, Schifferstadter Str. 2\, Waldsee\, Rheinland-Pfalz\, 67165\, Deutschland
CATEGORIES:allgemein
END:VEVENT
BEGIN:VEVENT
DTSTART;TZID=Europe/Berlin:20260327T193000
DTEND;TZID=Europe/Berlin:20260327T220000
DTSTAMP:20260424T123011
CREATED:20251015T104814Z
LAST-MODIFIED:20260327T182755Z
UID:8524-1774639800-1774648800@asv-waldsee.de
SUMMARY:Jahreshauptversammlung
DESCRIPTION:Freitag\, 27.03.2026 – 19:30 Uhr\, Narrhalla Waldsee \nZur Jahreshauptversammlung 2026\, lädt der ASV Waldsee alle Vereinsmitglieder ein.
URL:https://asv-waldsee.de/event/jahreshauptversammlung/
LOCATION:Narhalla der KV UNO\, Schlichtstraße 12a\, Waldsee
CATEGORIES:allgemein
END:VEVENT
END:VCALENDAR